BEGIN:VCALENDAR
PRODID:-//www.woodcraft.cz
VERSION:2.0
METHOD:PUBLISH
BEGIN:VEVENT
DTEND;VALUE=DATE:20240617
DTSTART;VALUE=DATE:20240615
LOCATION:
TRANSP:OPAQUE
SEQUENCE:0
UID:807@woodcraft.cz
DTSTAMP:20260424T084913Z
SUMMARY:Lážonapláži - Voda (LŽP tým)
DESCRIPTION:Lážonapláži - Voda (LŽP tým)\n\n
PRIORITY:1
CLASS:PUBLIC
X-ALT-DESC;FMTTYPE=text/html:<html><body>Lážonapláži - Voda (LŽP tým)\n\n<hr>Liga lesní moudrosti<br><a href="https://www.woodcraft.cz">www.woodcraft.cz</a></body></html>
BEGIN:VALARM
TRIGGER:-PT10080M
ACTION:DISPLAY
DESCRIPTION:Reminder
END:VALARM
END:VEVENT
END:VCALENDAR
