BEGIN:VCALENDAR
PRODID:-//www.woodcraft.cz
VERSION:2.0
METHOD:PUBLISH
BEGIN:VEVENT
DTEND;VALUE=DATE:20240902
DTSTART;VALUE=DATE:20240828
LOCATION:
TRANSP:OPAQUE
SEQUENCE:0
UID:804@woodcraft.cz
DTSTAMP:20260424T100425Z
SUMMARY:Lážoplážo - Táboření Mladší Velké lóže (15-30),
DESCRIPTION:Lážoplážo - Táboření Mladší Velké lóže (15-30), Kosí potok. (LŽP tým)\n\n
PRIORITY:1
CLASS:PUBLIC
X-ALT-DESC;FMTTYPE=text/html:<html><body>Lážoplážo - Táboření Mladší Velké lóže (15-30), Kosí potok. (LŽP tým)\n\n<hr>Liga lesní moudrosti<br><a href="https://www.woodcraft.cz">www.woodcraft.cz</a></body></html>
BEGIN:VALARM
TRIGGER:-PT10080M
ACTION:DISPLAY
DESCRIPTION:Reminder
END:VALARM
END:VEVENT
END:VCALENDAR
