BEGIN:VCALENDAR
PRODID:-//www.woodcraft.cz
VERSION:2.0
METHOD:PUBLISH
BEGIN:VEVENT
DTEND;VALUE=DATE:20240226
DTSTART;VALUE=DATE:20240223
LOCATION:
TRANSP:OPAQUE
SEQUENCE:0
UID:801@woodcraft.cz
DTSTAMP:20260424T084751Z
SUMMARY:Šití stylového látkového oblečení v ruce i
DESCRIPTION:Šití stylového látkového oblečení v ruce i na stroji \n \n  23. 2. 2024 - 25. 2. 2024\n\n
PRIORITY:1
CLASS:PUBLIC
X-ALT-DESC;FMTTYPE=text/html:<html><body>Šití stylového látkového oblečení v ruce i na stroji \n \n  23. 2. 2024 - 25. 2. 2024\n\n<hr>Liga lesní moudrosti<br><a href="https://www.woodcraft.cz">www.woodcraft.cz</a></body></html>
BEGIN:VALARM
TRIGGER:-PT10080M
ACTION:DISPLAY
DESCRIPTION:Reminder
END:VALARM
END:VEVENT
END:VCALENDAR
