BEGIN:VCALENDAR
PRODID:-//www.woodcraft.cz
VERSION:2.0
METHOD:PUBLISH
BEGIN:VEVENT
DTEND;VALUE=DATE:1712354400
DTSTART;VALUE=DATE:20240406
LOCATION:
TRANSP:OPAQUE
SEQUENCE:0
UID:800@woodcraft.cz
DTSTAMP:20260424T084825Z
SUMMARY:INDIÁNSKÉ VÍTÁNÍ JARA\n\n Akce pro veřejnost pořádaná v
DESCRIPTION:INDIÁNSKÉ VÍTÁNÍ JARA\n\n Akce pro veřejnost pořádaná v Říčanech u Prahy.\n\n
PRIORITY:1
CLASS:PUBLIC
X-ALT-DESC;FMTTYPE=text/html:<html><body>INDIÁNSKÉ VÍTÁNÍ JARA\n\n Akce pro veřejnost pořádaná v Říčanech u Prahy.\n\n<hr>Liga lesní moudrosti<br><a href="https://www.woodcraft.cz">www.woodcraft.cz</a></body></html>
BEGIN:VALARM
TRIGGER:-PT10080M
ACTION:DISPLAY
DESCRIPTION:Reminder
END:VALARM
END:VEVENT
END:VCALENDAR
