BEGIN:VCALENDAR
PRODID:-//www.woodcraft.cz
VERSION:2.0
METHOD:PUBLISH
BEGIN:VEVENT
DTEND;VALUE=DATE:20240610
DTSTART;VALUE=DATE:20240608
LOCATION:
TRANSP:OPAQUE
SEQUENCE:0
UID:798@woodcraft.cz
DTSTAMP:20260424T085214Z
SUMMARY:Mezinárodní woodcrafterské setkání on-line 2024\n <span style="color:
DESCRIPTION:Mezinárodní woodcrafterské setkání on-line 2024\n Woodcraft se od vzniku rozšířil do mnoha zemí a dneškem stále sílí. Připravujeme Mezinárodní Woodcrafterské setkání, které proběhne on-line a to přes platformu Zoom.\n\n
PRIORITY:1
CLASS:PUBLIC
X-ALT-DESC;FMTTYPE=text/html:<html><body>Mezinárodní woodcrafterské setkání on-line 2024\n Woodcraft se od vzniku rozšířil do mnoha zemí a dneškem stále sílí. Připravujeme Mezinárodní Woodcrafterské setkání, které proběhne on-line a to přes platformu Zoom.\n\n<hr>Liga lesní moudrosti<br><a href="https://www.woodcraft.cz">www.woodcraft.cz</a></body></html>
BEGIN:VALARM
TRIGGER:-PT10080M
ACTION:DISPLAY
DESCRIPTION:Reminder
END:VALARM
END:VEVENT
END:VCALENDAR
