BEGIN:VCALENDAR
PRODID:-//www.woodcraft.cz
VERSION:2.0
METHOD:PUBLISH
BEGIN:VEVENT
DTEND;VALUE=DATE:20240204
DTSTART;VALUE=DATE:20240203
LOCATION:
TRANSP:OPAQUE
SEQUENCE:0
UID:796@woodcraft.cz
DTSTAMP:20260424T085127Z
SUMMARY:O Stříbrného Trilobita\n\n (kmen Trilobit)
DESCRIPTION:O Stříbrného Trilobita\n\n (kmen Trilobit)\n\n
PRIORITY:1
CLASS:PUBLIC
X-ALT-DESC;FMTTYPE=text/html:<html><body>O Stříbrného Trilobita\n\n (kmen Trilobit)\n\n<hr>Liga lesní moudrosti<br><a href="https://www.woodcraft.cz">www.woodcraft.cz</a></body></html>
BEGIN:VALARM
TRIGGER:-PT10080M
ACTION:DISPLAY
DESCRIPTION:Reminder
END:VALARM
END:VEVENT
END:VCALENDAR
