BEGIN:VCALENDAR
PRODID:-//www.woodcraft.cz
VERSION:2.0
METHOD:PUBLISH
BEGIN:VEVENT
DTEND;VALUE=DATE:20240513
DTSTART;VALUE=DATE:20240510
LOCATION:
TRANSP:OPAQUE
SEQUENCE:0
UID:795@woodcraft.cz
DTSTAMP:20260424T085014Z
SUMMARY:Nejkrásnější sbírka (Maqiyémi)\n\n Putování po CHKO Moravský kras
DESCRIPTION:Nejkrásnější sbírka (Maqiyémi)\n\n Putování po CHKO Moravský kras\n\n
PRIORITY:1
CLASS:PUBLIC
X-ALT-DESC;FMTTYPE=text/html:<html><body>Nejkrásnější sbírka (Maqiyémi)\n\n Putování po CHKO Moravský kras\n\n<hr>Liga lesní moudrosti<br><a href="https://www.woodcraft.cz">www.woodcraft.cz</a></body></html>
BEGIN:VALARM
TRIGGER:-PT10080M
ACTION:DISPLAY
DESCRIPTION:Reminder
END:VALARM
END:VEVENT
END:VCALENDAR
