BEGIN:VCALENDAR
PRODID:-//www.woodcraft.cz
VERSION:2.0
METHOD:PUBLISH
BEGIN:VEVENT
DTEND;VALUE=DATE:20240916
DTSTART;VALUE=DATE:20240913
LOCATION:
TRANSP:OPAQUE
SEQUENCE:0
UID:787@woodcraft.cz
DTSTAMP:20260424T085101Z
SUMMARY:Točník (Domča z VR)\n\n Akce pro veřejnost nejen
DESCRIPTION:Točník (Domča z VR)\n\n Akce pro veřejnost nejen pro děti na hradě Točníku. Víkend věnovaný propagaci woodcraftu zábavnou formou.\n\n
PRIORITY:1
CLASS:PUBLIC
X-ALT-DESC;FMTTYPE=text/html:<html><body>Točník (Domča z VR)\n\n Akce pro veřejnost nejen pro děti na hradě Točníku. Víkend věnovaný propagaci woodcraftu zábavnou formou.\n\n<hr>Liga lesní moudrosti<br><a href="https://www.woodcraft.cz">www.woodcraft.cz</a></body></html>
BEGIN:VALARM
TRIGGER:-PT10080M
ACTION:DISPLAY
DESCRIPTION:Reminder
END:VALARM
END:VEVENT
END:VCALENDAR
