BEGIN:VCALENDAR
PRODID:-//www.woodcraft.cz
VERSION:2.0
METHOD:PUBLISH
BEGIN:VEVENT
DTEND;VALUE=DATE:20240610
DTSTART;VALUE=DATE:20240607
LOCATION:
TRANSP:OPAQUE
SEQUENCE:0
UID:781@woodcraft.cz
DTSTAMP:20260424T084913Z
SUMMARY:Stopa Černého vlka (Bobři)\n\n Dobrodružná celodenní hra pro
DESCRIPTION:Stopa Černého vlka (Bobři)\n\n Dobrodružná celodenní hra pro skupinky malých i větších bojovníků, kombinace vědomostních či dovednostních soutěží a bojové hry, obvykle motivována historickými indiánskými/zálesáckými či jinak domorodými skutečnými událostmi.\n\n
PRIORITY:1
CLASS:PUBLIC
X-ALT-DESC;FMTTYPE=text/html:<html><body>Stopa Černého vlka (Bobři)\n\n Dobrodružná celodenní hra pro skupinky malých i větších bojovníků, kombinace vědomostních či dovednostních soutěží a bojové hry, obvykle motivována historickými indiánskými/zálesáckými či jinak domorodými skutečnými událostmi.\n\n<hr>Liga lesní moudrosti<br><a href="https://www.woodcraft.cz">www.woodcraft.cz</a></body></html>
BEGIN:VALARM
TRIGGER:-PT10080M
ACTION:DISPLAY
DESCRIPTION:Reminder
END:VALARM
END:VEVENT
END:VCALENDAR
