BEGIN:VCALENDAR
PRODID:-//www.woodcraft.cz
VERSION:2.0
METHOD:PUBLISH
BEGIN:VEVENT
DTEND;VALUE=DATE:1715896800
DTSTART;VALUE=DATE:20240517
LOCATION:
TRANSP:OPAQUE
SEQUENCE:0
UID:780@woodcraft.cz
DTSTAMP:20260424T085214Z
SUMMARY:Čiwawa (Ťapáč)\n\n Noční šifrovací hra, ve které účastníci
DESCRIPTION:Čiwawa (Ťapáč)\n\n Noční šifrovací hra, ve které účastníci mohou použít jen vytištěnou mapu a sadu nápověd.\n\n
PRIORITY:1
CLASS:PUBLIC
X-ALT-DESC;FMTTYPE=text/html:<html><body>Čiwawa (Ťapáč)\n\n Noční šifrovací hra, ve které účastníci mohou použít jen vytištěnou mapu a sadu nápověd.\n\n<hr>Liga lesní moudrosti<br><a href="https://www.woodcraft.cz">www.woodcraft.cz</a></body></html>
BEGIN:VALARM
TRIGGER:-PT10080M
ACTION:DISPLAY
DESCRIPTION:Reminder
END:VALARM
END:VEVENT
END:VCALENDAR
