BEGIN:VCALENDAR
PRODID:-//www.woodcraft.cz
VERSION:2.0
METHOD:PUBLISH
BEGIN:VEVENT
DTEND;VALUE=DATE:20240506
DTSTART;VALUE=DATE:20240501
LOCATION:
TRANSP:OPAQUE
SEQUENCE:0
UID:778@woodcraft.cz
DTSTAMP:20260424T084913Z
SUMMARY:Setkání rodinných kmenů (Lasík)\n\n SRK je táboření rodinných
DESCRIPTION:Setkání rodinných kmenů (Lasík)\n\n SRK je táboření rodinných kmenů, rodů a rodin na Samechově. Je možné pozvat kamarády se zájmem o woodcraft, kteří nemají potřebné vybavení - lze tedy přijet jen se stanem. Součástí bude sněm s možností uznání orlích per i titulů.\n\n První jarní táboření pro rodiny se spoustou programu pro děti i dospělé.\n\n
PRIORITY:1
CLASS:PUBLIC
X-ALT-DESC;FMTTYPE=text/html:<html><body>Setkání rodinných kmenů (Lasík)\n\n SRK je táboření rodinných kmenů, rodů a rodin na Samechově. Je možné pozvat kamarády se zájmem o woodcraft, kteří nemají potřebné vybavení - lze tedy přijet jen se stanem. Součástí bude sněm s možností uznání orlích per i titulů.\n\n První jarní táboření pro rodiny se spoustou programu pro děti i dospělé.\n\n<hr>Liga lesní moudrosti<br><a href="https://www.woodcraft.cz">www.woodcraft.cz</a></body></html>
BEGIN:VALARM
TRIGGER:-PT10080M
ACTION:DISPLAY
DESCRIPTION:Reminder
END:VALARM
END:VEVENT
END:VCALENDAR
