BEGIN:VCALENDAR
PRODID:-//www.woodcraft.cz
VERSION:2.0
METHOD:PUBLISH
BEGIN:VEVENT
DTEND;VALUE=DATE:1658527200
DTSTART;VALUE=DATE:20220723
LOCATION:
TRANSP:OPAQUE
SEQUENCE:0
UID:701@woodcraft.cz
DTSTAMP:20260424T084734Z
SUMMARY:Sněm LLM, Kosí potok
DESCRIPTION:Sněm LLM, Kosí potok\n\n
PRIORITY:1
CLASS:PUBLIC
X-ALT-DESC;FMTTYPE=text/html:<html><body>Sněm LLM, Kosí potok\n\n<hr>Liga lesní moudrosti<br><a href="https://www.woodcraft.cz">www.woodcraft.cz</a></body></html>
BEGIN:VALARM
TRIGGER:-PT10080M
ACTION:DISPLAY
DESCRIPTION:Reminder
END:VALARM
END:VEVENT
END:VCALENDAR
