BEGIN:VCALENDAR
PRODID:-//www.woodcraft.cz
VERSION:2.0
METHOD:PUBLISH
BEGIN:VEVENT
DTEND;VALUE=DATE:20220207
DTSTART;VALUE=DATE:20220204
LOCATION:
TRANSP:OPAQUE
SEQUENCE:0
UID:683@woodcraft.cz
DTSTAMP:20260424T084734Z
SUMMARY:Seifertovo zimní klání, Fara MH (Nechodí)
DESCRIPTION:Seifertovo zimní klání, Fara MH (Nechodí)\n\n
PRIORITY:1
CLASS:PUBLIC
X-ALT-DESC;FMTTYPE=text/html:<html><body>Seifertovo zimní klání, Fara MH (Nechodí)\n\n<hr>Liga lesní moudrosti<br><a href="https://www.woodcraft.cz">www.woodcraft.cz</a></body></html>
BEGIN:VALARM
TRIGGER:-PT10080M
ACTION:DISPLAY
DESCRIPTION:Reminder
END:VALARM
END:VEVENT
END:VCALENDAR
