BEGIN:VCALENDAR
PRODID:-//www.woodcraft.cz
VERSION:2.0
METHOD:PUBLISH
BEGIN:VEVENT
DTEND;VALUE=DATE:20200914
DTSTART;VALUE=DATE:20200911
LOCATION:
TRANSP:OPAQUE
SEQUENCE:0
UID:639@woodcraft.cz
DTSTAMP:20260424T100454Z
SUMMARY:Čotokva - rozněcování ohně starými způsoby (Willy
DESCRIPTION:Čotokva - rozněcování ohně starými způsoby (Willy a Hrom, srub Suivakko)\n\n
PRIORITY:1
CLASS:PUBLIC
X-ALT-DESC;FMTTYPE=text/html:<html><body>Čotokva - rozněcování ohně starými způsoby (Willy a Hrom, srub Suivakko)\n\n<hr>Liga lesní moudrosti<br><a href="https://www.woodcraft.cz">www.woodcraft.cz</a></body></html>
BEGIN:VALARM
TRIGGER:-PT10080M
ACTION:DISPLAY
DESCRIPTION:Reminder
END:VALARM
END:VEVENT
END:VCALENDAR
