BEGIN:VCALENDAR
PRODID:-//www.woodcraft.cz
VERSION:2.0
METHOD:PUBLISH
BEGIN:VEVENT
DTEND;VALUE=DATE:20200511
DTSTART;VALUE=DATE:20200508
LOCATION:
TRANSP:OPAQUE
SEQUENCE:0
UID:633@woodcraft.cz
DTSTAMP:20260424T085101Z
SUMMARY:TaMaLo s hrou pro malou lóži (Slunce)
DESCRIPTION:TaMaLo s hrou pro malou lóži (Slunce) - zrušeno\n\n
PRIORITY:1
CLASS:PUBLIC
X-ALT-DESC;FMTTYPE=text/html:<html><body>TaMaLo s hrou pro malou lóži (Slunce) - zrušeno\n\n<hr>Liga lesní moudrosti<br><a href="https://www.woodcraft.cz">www.woodcraft.cz</a></body></html>
BEGIN:VALARM
TRIGGER:-PT10080M
ACTION:DISPLAY
DESCRIPTION:Reminder
END:VALARM
END:VEVENT
END:VCALENDAR
