BEGIN:VCALENDAR
PRODID:-//www.woodcraft.cz
VERSION:2.0
METHOD:PUBLISH
BEGIN:VEVENT
DTEND;VALUE=DATE:20200929
DTSTART;VALUE=DATE:20200926
LOCATION:
TRANSP:OPAQUE
SEQUENCE:0
UID:627@woodcraft.cz
DTSTAMP:20260424T084913Z
SUMMARY:Stopa Černého vlka (Zlobr) - zrušeno
DESCRIPTION:Stopa Černého vlka (Zlobr) - zrušeno\n\n
PRIORITY:1
CLASS:PUBLIC
X-ALT-DESC;FMTTYPE=text/html:<html><body>Stopa Černého vlka (Zlobr) - zrušeno\n\n<hr>Liga lesní moudrosti<br><a href="https://www.woodcraft.cz">www.woodcraft.cz</a></body></html>
BEGIN:VALARM
TRIGGER:-PT10080M
ACTION:DISPLAY
DESCRIPTION:Reminder
END:VALARM
END:VEVENT
END:VCALENDAR
