BEGIN:VCALENDAR
PRODID:-//www.woodcraft.cz
VERSION:2.0
METHOD:PUBLISH
BEGIN:VEVENT
DTEND;VALUE=DATE:1591999200
DTSTART;VALUE=DATE:20200613
LOCATION:
TRANSP:OPAQUE
SEQUENCE:0
UID:618@woodcraft.cz
DTSTAMP:20260424T084709Z
SUMMARY:Trilobit Man (Trilobiti) - zrušeno
DESCRIPTION:Trilobit Man (Trilobiti) - zrušeno\n\n
PRIORITY:1
CLASS:PUBLIC
X-ALT-DESC;FMTTYPE=text/html:<html><body>Trilobit Man (Trilobiti) - zrušeno\n\n<hr>Liga lesní moudrosti<br><a href="https://www.woodcraft.cz">www.woodcraft.cz</a></body></html>
BEGIN:VALARM
TRIGGER:-PT10080M
ACTION:DISPLAY
DESCRIPTION:Reminder
END:VALARM
END:VEVENT
END:VCALENDAR
