BEGIN:VCALENDAR
PRODID:-//www.woodcraft.cz
VERSION:2.0
METHOD:PUBLISH
BEGIN:VEVENT
DTEND;VALUE=DATE:20200518
DTSTART;VALUE=DATE:20200515
LOCATION:
TRANSP:OPAQUE
SEQUENCE:0
UID:614@woodcraft.cz
DTSTAMP:20260424T095748Z
SUMMARY:Nejkrásnější sbírka (Martin Lehký) - zrušeno
DESCRIPTION:Nejkrásnější sbírka (Martin Lehký) - zrušeno\n\n
PRIORITY:1
CLASS:PUBLIC
X-ALT-DESC;FMTTYPE=text/html:<html><body>Nejkrásnější sbírka (Martin Lehký) - zrušeno\n\n<hr>Liga lesní moudrosti<br><a href="https://www.woodcraft.cz">www.woodcraft.cz</a></body></html>
BEGIN:VALARM
TRIGGER:-PT10080M
ACTION:DISPLAY
DESCRIPTION:Reminder
END:VALARM
END:VEVENT
END:VCALENDAR
