BEGIN:VCALENDAR
PRODID:-//www.woodcraft.cz
VERSION:2.0
METHOD:PUBLISH
BEGIN:VEVENT
DTEND;VALUE=DATE:20200127
DTSTART;VALUE=DATE:20200125
LOCATION:
TRANSP:OPAQUE
SEQUENCE:0
UID:604@woodcraft.cz
DTSTAMP:20260424T095716Z
SUMMARY:Vyráběcí víkend (Martin Lehký)
DESCRIPTION:Vyráběcí víkend (Martin Lehký)\n\n
PRIORITY:1
CLASS:PUBLIC
X-ALT-DESC;FMTTYPE=text/html:<html><body>Vyráběcí víkend (Martin Lehký)\n\n<hr>Liga lesní moudrosti<br><a href="https://www.woodcraft.cz">www.woodcraft.cz</a></body></html>
BEGIN:VALARM
TRIGGER:-PT10080M
ACTION:DISPLAY
DESCRIPTION:Reminder
END:VALARM
END:VEVENT
END:VCALENDAR
