BEGIN:VCALENDAR
PRODID:-//www.woodcraft.cz
VERSION:2.0
METHOD:PUBLISH
BEGIN:VEVENT
DTEND;VALUE=DATE:20171023
DTSTART;VALUE=DATE:20171020
LOCATION:
TRANSP:OPAQUE
SEQUENCE:0
UID:531@woodcraft.cz
DTSTAMP:20260424T085031Z
SUMMARY:Sněm zástupců 2017 – Kaprálův mlýn<span class="Apple-tab-span"
DESCRIPTION:Sněm zástupců 2017 – Kaprálův mlýn (Náčelnictvo)\n\n
PRIORITY:1
CLASS:PUBLIC
X-ALT-DESC;FMTTYPE=text/html:<html><body>Sněm zástupců 2017 – Kaprálův mlýn (Náčelnictvo)\n\n<hr>Liga lesní moudrosti<br><a href="https://www.woodcraft.cz">www.woodcraft.cz</a></body></html>
BEGIN:VALARM
TRIGGER:-PT10080M
ACTION:DISPLAY
DESCRIPTION:Reminder
END:VALARM
END:VEVENT
END:VCALENDAR
