BEGIN:VCALENDAR
PRODID:-//www.woodcraft.cz
VERSION:2.0
METHOD:PUBLISH
BEGIN:VEVENT
DTEND;VALUE=DATE:20170807
DTSTART;VALUE=DATE:20170731
LOCATION:
TRANSP:OPAQUE
SEQUENCE:0
UID:525@woodcraft.cz
DTSTAMP:20260424T084832Z
SUMMARY:Táboření pro veřejnost na Kosím potoce (Indi)
DESCRIPTION:Táboření pro veřejnost na Kosím potoce (Indi)\n\n
PRIORITY:1
CLASS:PUBLIC
X-ALT-DESC;FMTTYPE=text/html:<html><body>Táboření pro veřejnost na Kosím potoce (Indi)\n\n<hr>Liga lesní moudrosti<br><a href="https://www.woodcraft.cz">www.woodcraft.cz</a></body></html>
BEGIN:VALARM
TRIGGER:-PT10080M
ACTION:DISPLAY
DESCRIPTION:Reminder
END:VALARM
END:VEVENT
END:VCALENDAR
