BEGIN:VCALENDAR
PRODID:-//www.woodcraft.cz
VERSION:2.0
METHOD:PUBLISH
BEGIN:VEVENT
DTEND;VALUE=DATE:20170626
DTSTART;VALUE=DATE:20170623
LOCATION:
TRANSP:OPAQUE
SEQUENCE:0
UID:523@woodcraft.cz
DTSTAMP:20260424T085214Z
SUMMARY:Brigáda na Kosím potoce<span class="Apple-tab-span" style="white-space:
DESCRIPTION:Brigáda na Kosím potoce (Tokaheya)\n\n
PRIORITY:1
CLASS:PUBLIC
X-ALT-DESC;FMTTYPE=text/html:<html><body>Brigáda na Kosím potoce (Tokaheya)\n\n<hr>Liga lesní moudrosti<br><a href="https://www.woodcraft.cz">www.woodcraft.cz</a></body></html>
BEGIN:VALARM
TRIGGER:-PT10080M
ACTION:DISPLAY
DESCRIPTION:Reminder
END:VALARM
END:VEVENT
END:VCALENDAR
