BEGIN:VCALENDAR
PRODID:-//www.woodcraft.cz
VERSION:2.0
METHOD:PUBLISH
BEGIN:VEVENT
DTEND;VALUE=DATE:20170502
DTSTART;VALUE=DATE:20170429
LOCATION:
TRANSP:OPAQUE
SEQUENCE:0
UID:516@woodcraft.cz
DTSTAMP:20260424T084832Z
SUMMARY:Jarní klíčení – táboření účastníků ohniveckých čotokev
DESCRIPTION:Jarní klíčení – táboření účastníků ohniveckých čotokev a náčelnických zkoušek (Ohnivecké společenství)\n\n
PRIORITY:1
CLASS:PUBLIC
X-ALT-DESC;FMTTYPE=text/html:<html><body>Jarní klíčení – táboření účastníků ohniveckých čotokev a náčelnických zkoušek (Ohnivecké společenství)\n\n<hr>Liga lesní moudrosti<br><a href="https://www.woodcraft.cz">www.woodcraft.cz</a></body></html>
BEGIN:VALARM
TRIGGER:-PT10080M
ACTION:DISPLAY
DESCRIPTION:Reminder
END:VALARM
END:VEVENT
END:VCALENDAR
