BEGIN:VCALENDAR
PRODID:-//www.woodcraft.cz
VERSION:2.0
METHOD:PUBLISH
BEGIN:VEVENT
DTEND;VALUE=DATE:20170130
DTSTART;VALUE=DATE:20170127
LOCATION:
TRANSP:OPAQUE
SEQUENCE:0
UID:507@woodcraft.cz
DTSTAMP:20260424T084826Z
SUMMARY:Setkání náčelníků ML (Karča)
DESCRIPTION:Setkání náčelníků ML (Karča)\n\n
PRIORITY:1
CLASS:PUBLIC
X-ALT-DESC;FMTTYPE=text/html:<html><body>Setkání náčelníků ML (Karča)\n\n<hr>Liga lesní moudrosti<br><a href="https://www.woodcraft.cz">www.woodcraft.cz</a></body></html>
BEGIN:VALARM
TRIGGER:-PT10080M
ACTION:DISPLAY
DESCRIPTION:Reminder
END:VALARM
END:VEVENT
END:VCALENDAR
