BEGIN:VCALENDAR
PRODID:-//www.woodcraft.cz
VERSION:2.0
METHOD:PUBLISH
BEGIN:VEVENT
DTEND;VALUE=DATE:20170116
DTSTART;VALUE=DATE:20170113
LOCATION:
TRANSP:OPAQUE
SEQUENCE:0
UID:505@woodcraft.cz
DTSTAMP:20260424T084857Z
SUMMARY:Víkend v Tuchlovicích - moderní indiánské tance, bubnování
DESCRIPTION:Víkend v Tuchlovicích - moderní indiánské tance, bubnování (Tibor)\n\n
PRIORITY:1
CLASS:PUBLIC
X-ALT-DESC;FMTTYPE=text/html:<html><body>Víkend v Tuchlovicích - moderní indiánské tance, bubnování (Tibor)\n\n<hr>Liga lesní moudrosti<br><a href="https://www.woodcraft.cz">www.woodcraft.cz</a></body></html>
BEGIN:VALARM
TRIGGER:-PT10080M
ACTION:DISPLAY
DESCRIPTION:Reminder
END:VALARM
END:VEVENT
END:VCALENDAR
