BEGIN:VCALENDAR
PRODID:-//www.woodcraft.cz
VERSION:2.0
METHOD:PUBLISH
BEGIN:VEVENT
DTEND;VALUE=DATE:20161107
DTSTART;VALUE=DATE:20161104
LOCATION:
TRANSP:OPAQUE
SEQUENCE:0
UID:504@woodcraft.cz
DTSTAMP:20260424T084955Z
SUMMARY:Brigáda na ligové základně Fram
DESCRIPTION:Brigáda na ligové základně Fram\n\n
PRIORITY:1
CLASS:PUBLIC
X-ALT-DESC;FMTTYPE=text/html:<html><body>Brigáda na ligové základně Fram\n\n<hr>Liga lesní moudrosti<br><a href="https://www.woodcraft.cz">www.woodcraft.cz</a></body></html>
BEGIN:VALARM
TRIGGER:-PT10080M
ACTION:DISPLAY
DESCRIPTION:Reminder
END:VALARM
END:VEVENT
END:VCALENDAR
