BEGIN:VCALENDAR
PRODID:-//www.woodcraft.cz
VERSION:2.0
METHOD:PUBLISH
BEGIN:VEVENT
DTEND;VALUE=DATE:20161003
DTSTART;VALUE=DATE:20160930
LOCATION:
TRANSP:OPAQUE
SEQUENCE:0
UID:497@woodcraft.cz
DTSTAMP:20260421T005439Z
SUMMARY:Kiwendotha (Trilobit)
DESCRIPTION:Kiwendotha (Trilobit)\n\n
PRIORITY:1
CLASS:PUBLIC
X-ALT-DESC;FMTTYPE=text/html:<html><body>Kiwendotha (Trilobit)\n\n<hr>Liga lesní moudrosti<br><a href="https://www.woodcraft.cz">www.woodcraft.cz</a></body></html>
BEGIN:VALARM
TRIGGER:-PT10080M
ACTION:DISPLAY
DESCRIPTION:Reminder
END:VALARM
END:VEVENT
END:VCALENDAR
