BEGIN:VCALENDAR
PRODID:-//www.woodcraft.cz
VERSION:2.0
METHOD:PUBLISH
BEGIN:VEVENT
DTEND;VALUE=DATE:20160620
DTSTART;VALUE=DATE:20160617
LOCATION:
TRANSP:OPAQUE
SEQUENCE:0
UID:490@woodcraft.cz
DTSTAMP:20260424T085030Z
SUMMARY:Brigáda na Kosím potoce I. (Tokaheya)
DESCRIPTION:Brigáda na Kosím potoce I. (Tokaheya)\n\n
PRIORITY:1
CLASS:PUBLIC
X-ALT-DESC;FMTTYPE=text/html:<html><body>Brigáda na Kosím potoce I. (Tokaheya)\n\n<hr>Liga lesní moudrosti<br><a href="https://www.woodcraft.cz">www.woodcraft.cz</a></body></html>
BEGIN:VALARM
TRIGGER:-PT10080M
ACTION:DISPLAY
DESCRIPTION:Reminder
END:VALARM
END:VEVENT
END:VCALENDAR
