BEGIN:VCALENDAR
PRODID:-//www.woodcraft.cz
VERSION:2.0
METHOD:PUBLISH
BEGIN:VEVENT
DTEND;VALUE=DATE:20160530
DTSTART;VALUE=DATE:20160527
LOCATION:
TRANSP:OPAQUE
SEQUENCE:0
UID:488@woodcraft.cz
DTSTAMP:20260424T084831Z
SUMMARY:Nejkrásnější sbírka - CHKO Žďárské vrchy/Železné hory
DESCRIPTION:Nejkrásnější sbírka - CHKO Žďárské vrchy/Železné hory (Hočhóka)\n\n
PRIORITY:1
CLASS:PUBLIC
X-ALT-DESC;FMTTYPE=text/html:<html><body>Nejkrásnější sbírka - CHKO Žďárské vrchy/Železné hory (Hočhóka)\n\n<hr>Liga lesní moudrosti<br><a href="https://www.woodcraft.cz">www.woodcraft.cz</a></body></html>
BEGIN:VALARM
TRIGGER:-PT10080M
ACTION:DISPLAY
DESCRIPTION:Reminder
END:VALARM
END:VEVENT
END:VCALENDAR
