BEGIN:VCALENDAR
PRODID:-//www.woodcraft.cz
VERSION:2.0
METHOD:PUBLISH
BEGIN:VEVENT
DTEND;VALUE=DATE:20160411
DTSTART;VALUE=DATE:20160408
LOCATION:
TRANSP:OPAQUE
SEQUENCE:0
UID:480@woodcraft.cz
DTSTAMP:20260424T084750Z
SUMMARY:2. víkend Náčelnických zkoušek (Vítek)
DESCRIPTION:2. víkend Náčelnických zkoušek (Vítek)\n\n
PRIORITY:1
CLASS:PUBLIC
X-ALT-DESC;FMTTYPE=text/html:<html><body>2. víkend Náčelnických zkoušek (Vítek)\n\n<hr>Liga lesní moudrosti<br><a href="https://www.woodcraft.cz">www.woodcraft.cz</a></body></html>
BEGIN:VALARM
TRIGGER:-PT10080M
ACTION:DISPLAY
DESCRIPTION:Reminder
END:VALARM
END:VEVENT
END:VCALENDAR
