BEGIN:VCALENDAR
PRODID:-//www.woodcraft.cz
VERSION:2.0
METHOD:PUBLISH
BEGIN:VEVENT
DTEND;VALUE=DATE:20160215
DTSTART;VALUE=DATE:20160212
LOCATION:
TRANSP:OPAQUE
SEQUENCE:0
UID:474@woodcraft.cz
DTSTAMP:20260424T085132Z
SUMMARY:Akce pro nováčky a zájemce o táboření
DESCRIPTION:Akce pro nováčky a zájemce o táboření (Společenství ohnivců)\n\n
PRIORITY:1
CLASS:PUBLIC
X-ALT-DESC;FMTTYPE=text/html:<html><body>Akce pro nováčky a zájemce o táboření (Společenství ohnivců)\n\n<hr>Liga lesní moudrosti<br><a href="https://www.woodcraft.cz">www.woodcraft.cz</a></body></html>
BEGIN:VALARM
TRIGGER:-PT10080M
ACTION:DISPLAY
DESCRIPTION:Reminder
END:VALARM
END:VEVENT
END:VCALENDAR
