BEGIN:VCALENDAR
PRODID:-//www.woodcraft.cz
VERSION:2.0
METHOD:PUBLISH
BEGIN:VEVENT
DTEND;VALUE=DATE:1452726000
DTSTART;VALUE=DATE:20160114
LOCATION:
TRANSP:OPAQUE
SEQUENCE:0
UID:472@woodcraft.cz
DTSTAMP:20260424T084857Z
SUMMARY:Zasedání náčelnictva v Praze
DESCRIPTION:Zasedání náčelnictva v Praze\n\n
PRIORITY:1
CLASS:PUBLIC
X-ALT-DESC;FMTTYPE=text/html:<html><body>Zasedání náčelnictva v Praze\n\n<hr>Liga lesní moudrosti<br><a href="https://www.woodcraft.cz">www.woodcraft.cz</a></body></html>
BEGIN:VALARM
TRIGGER:-PT10080M
ACTION:DISPLAY
DESCRIPTION:Reminder
END:VALARM
END:VEVENT
END:VCALENDAR
