BEGIN:VCALENDAR
PRODID:-//www.woodcraft.cz
VERSION:2.0
METHOD:PUBLISH
BEGIN:VEVENT
DTEND;VALUE=DATE:1431381600
DTSTART;VALUE=DATE:20150512
LOCATION:
TRANSP:OPAQUE
SEQUENCE:0
UID:458@woodcraft.cz
DTSTAMP:20260424T095758Z
SUMMARY:17:30 náčelnictvo
DESCRIPTION:17:30 náčelnictvo\n\n
PRIORITY:1
CLASS:PUBLIC
X-ALT-DESC;FMTTYPE=text/html:<html><body>17:30 náčelnictvo\n\n<hr>Liga lesní moudrosti<br><a href="https://www.woodcraft.cz">www.woodcraft.cz</a></body></html>
BEGIN:VALARM
TRIGGER:-PT10080M
ACTION:DISPLAY
DESCRIPTION:Reminder
END:VALARM
END:VEVENT
END:VCALENDAR
