BEGIN:VCALENDAR
PRODID:-//www.woodcraft.cz
VERSION:2.0
METHOD:PUBLISH
BEGIN:VEVENT
DTEND;VALUE=DATE:20150824
DTSTART;VALUE=DATE:20150820
LOCATION:
TRANSP:OPAQUE
SEQUENCE:0
UID:457@woodcraft.cz
DTSTAMP:20260424T084734Z
SUMMARY:Pouť LLM. Bude se jednat o putování
DESCRIPTION:Pouť LLM. Bude se jednat o putování ve stylu Santiago de Compostela. Zašťituje Ablákela\n\n
PRIORITY:1
CLASS:PUBLIC
X-ALT-DESC;FMTTYPE=text/html:<html><body>Pouť LLM. Bude se jednat o putování ve stylu Santiago de Compostela. Zašťituje Ablákela\n\n<hr>Liga lesní moudrosti<br><a href="https://www.woodcraft.cz">www.woodcraft.cz</a></body></html>
BEGIN:VALARM
TRIGGER:-PT10080M
ACTION:DISPLAY
DESCRIPTION:Reminder
END:VALARM
END:VEVENT
END:VCALENDAR
