BEGIN:VCALENDAR
PRODID:-//www.woodcraft.cz
VERSION:2.0
METHOD:PUBLISH
BEGIN:VEVENT
DTEND;VALUE=DATE:1413324000
DTSTART;VALUE=DATE:20141015
LOCATION:
TRANSP:OPAQUE
SEQUENCE:0
UID:451@woodcraft.cz
DTSTAMP:20260424T100455Z
SUMMARY:Výstava s indiánskou tématikou - Víc než
DESCRIPTION:Výstava s indiánskou tématikou - Víc než polovina srdce\n\n
PRIORITY:1
CLASS:PUBLIC
X-ALT-DESC;FMTTYPE=text/html:<html><body>Výstava s indiánskou tématikou - Víc než polovina srdce\n\n<hr>Liga lesní moudrosti<br><a href="https://www.woodcraft.cz">www.woodcraft.cz</a></body></html>
BEGIN:VALARM
TRIGGER:-PT10080M
ACTION:DISPLAY
DESCRIPTION:Reminder
END:VALARM
END:VEVENT
END:VCALENDAR
