BEGIN:VCALENDAR
PRODID:-//www.woodcraft.cz
VERSION:2.0
METHOD:PUBLISH
BEGIN:VEVENT
DTEND;VALUE=DATE:20151109
DTSTART;VALUE=DATE:20151106
LOCATION:
TRANSP:OPAQUE
SEQUENCE:0
UID:450@woodcraft.cz
DTSTAMP:20260424T084825Z
SUMMARY:Podzimní ohnivecké setkání pro ohnivce na Bobřím
DESCRIPTION:Podzimní ohnivecké setkání pro ohnivce na Bobřím hradě (Ohnivecké společenství)\n\n
PRIORITY:1
CLASS:PUBLIC
X-ALT-DESC;FMTTYPE=text/html:<html><body>Podzimní ohnivecké setkání pro ohnivce na Bobřím hradě (Ohnivecké společenství)\n\n<hr>Liga lesní moudrosti<br><a href="https://www.woodcraft.cz">www.woodcraft.cz</a></body></html>
BEGIN:VALARM
TRIGGER:-PT10080M
ACTION:DISPLAY
DESCRIPTION:Reminder
END:VALARM
END:VEVENT
END:VCALENDAR
