BEGIN:VCALENDAR
PRODID:-//www.woodcraft.cz
VERSION:2.0
METHOD:PUBLISH
BEGIN:VEVENT
DTEND;VALUE=DATE:20150921
DTSTART;VALUE=DATE:20150919
LOCATION:
TRANSP:OPAQUE
SEQUENCE:0
UID:447@woodcraft.cz
DTSTAMP:20260424T085101Z
SUMMARY:Točník (Ileyawin a Chlup)
DESCRIPTION:Točník (Ileyawin a Chlup)\n\n
PRIORITY:1
CLASS:PUBLIC
X-ALT-DESC;FMTTYPE=text/html:<html><body>Točník (Ileyawin a Chlup)\n\n<hr>Liga lesní moudrosti<br><a href="https://www.woodcraft.cz">www.woodcraft.cz</a></body></html>
BEGIN:VALARM
TRIGGER:-PT10080M
ACTION:DISPLAY
DESCRIPTION:Reminder
END:VALARM
END:VEVENT
END:VCALENDAR
