BEGIN:VCALENDAR
PRODID:-//www.woodcraft.cz
VERSION:2.0
METHOD:PUBLISH
BEGIN:VEVENT
DTEND;VALUE=DATE:1431727200
DTSTART;VALUE=DATE:20150516
LOCATION:
TRANSP:OPAQUE
SEQUENCE:0
UID:439@woodcraft.cz
DTSTAMP:20260424T084825Z
SUMMARY:Lesní běh (Jestřábi)
DESCRIPTION:Lesní běh (Jestřábi)\n\n
PRIORITY:1
CLASS:PUBLIC
X-ALT-DESC;FMTTYPE=text/html:<html><body>Lesní běh (Jestřábi)\n\n<hr>Liga lesní moudrosti<br><a href="https://www.woodcraft.cz">www.woodcraft.cz</a></body></html>
BEGIN:VALARM
TRIGGER:-PT10080M
ACTION:DISPLAY
DESCRIPTION:Reminder
END:VALARM
END:VEVENT
END:VCALENDAR
