BEGIN:VCALENDAR
PRODID:-//www.woodcraft.cz
VERSION:2.0
METHOD:PUBLISH
BEGIN:VEVENT
DTEND;VALUE=DATE:20150504
DTSTART;VALUE=DATE:20150430
LOCATION:
TRANSP:OPAQUE
SEQUENCE:0
UID:437@woodcraft.cz
DTSTAMP:20260424T084949Z
SUMMARY:Nejkrásnější sbírka (Drum Bun nebo Okwaho)
DESCRIPTION:Nejkrásnější sbírka (Drum Bun nebo Okwaho)\n\n
PRIORITY:1
CLASS:PUBLIC
X-ALT-DESC;FMTTYPE=text/html:<html><body>Nejkrásnější sbírka (Drum Bun nebo Okwaho)\n\n<hr>Liga lesní moudrosti<br><a href="https://www.woodcraft.cz">www.woodcraft.cz</a></body></html>
BEGIN:VALARM
TRIGGER:-PT10080M
ACTION:DISPLAY
DESCRIPTION:Reminder
END:VALARM
END:VEVENT
END:VCALENDAR
