BEGIN:VCALENDAR
PRODID:-//www.woodcraft.cz
VERSION:2.0
METHOD:PUBLISH
BEGIN:VEVENT
DTEND;VALUE=DATE:20150420
DTSTART;VALUE=DATE:20150417
LOCATION:
TRANSP:OPAQUE
SEQUENCE:0
UID:434@woodcraft.cz
DTSTAMP:20260424T084826Z
SUMMARY:Dřevní brigáda na Kosím potoce (Tokaheya)
DESCRIPTION:Dřevní brigáda na Kosím potoce (Tokaheya)\n\n
PRIORITY:1
CLASS:PUBLIC
X-ALT-DESC;FMTTYPE=text/html:<html><body>Dřevní brigáda na Kosím potoce (Tokaheya)\n\n<hr>Liga lesní moudrosti<br><a href="https://www.woodcraft.cz">www.woodcraft.cz</a></body></html>
BEGIN:VALARM
TRIGGER:-PT10080M
ACTION:DISPLAY
DESCRIPTION:Reminder
END:VALARM
END:VEVENT
END:VCALENDAR
