BEGIN:VCALENDAR
PRODID:-//www.woodcraft.cz
VERSION:2.0
METHOD:PUBLISH
BEGIN:VEVENT
DTEND;VALUE=DATE:1401314400
DTSTART;VALUE=DATE:20140529
LOCATION:
TRANSP:OPAQUE
SEQUENCE:0
UID:415@woodcraft.cz
DTSTAMP:20260424T084343Z
SUMMARY:Zasedání Náčelnictva LLM - v Bílovicích nad
DESCRIPTION:Zasedání Náčelnictva LLM - v Bílovicích nad Svitavou\n\n
PRIORITY:1
CLASS:PUBLIC
X-ALT-DESC;FMTTYPE=text/html:<html><body>Zasedání Náčelnictva LLM - v Bílovicích nad Svitavou\n\n<hr>Liga lesní moudrosti<br><a href="https://www.woodcraft.cz">www.woodcraft.cz</a></body></html>
BEGIN:VALARM
TRIGGER:-PT10080M
ACTION:DISPLAY
DESCRIPTION:Reminder
END:VALARM
END:VEVENT
END:VCALENDAR
