BEGIN:VCALENDAR
PRODID:-//www.woodcraft.cz
VERSION:2.0
METHOD:PUBLISH
BEGIN:VEVENT
DTEND;VALUE=DATE:1395442800
DTSTART;VALUE=DATE:20140322
LOCATION:
TRANSP:OPAQUE
SEQUENCE:0
UID:412@woodcraft.cz
DTSTAMP:20260424T084454Z
SUMMARY:19th CZECH POWWOW 2014 <strong
DESCRIPTION:19th CZECH POWWOW 2014 (Indiánský taneční festival) www.powwow.cz\n\n
PRIORITY:1
CLASS:PUBLIC
X-ALT-DESC;FMTTYPE=text/html:<html><body>19th CZECH POWWOW 2014 (Indiánský taneční festival) www.powwow.cz\n\n<hr>Liga lesní moudrosti<br><a href="https://www.woodcraft.cz">www.woodcraft.cz</a></body></html>
BEGIN:VALARM
TRIGGER:-PT10080M
ACTION:DISPLAY
DESCRIPTION:Reminder
END:VALARM
END:VEVENT
END:VCALENDAR
