BEGIN:VCALENDAR
PRODID:-//www.woodcraft.cz
VERSION:2.0
METHOD:PUBLISH
BEGIN:VEVENT
DTEND;VALUE=DATE:20140505
DTSTART;VALUE=DATE:20140501
LOCATION:
TRANSP:OPAQUE
SEQUENCE:0
UID:394@woodcraft.cz
DTSTAMP:20260424T084455Z
SUMMARY:Putování VL - Nejkrásnější sbírka (Wičanhpi, Hočhóka)
DESCRIPTION:Putování VL - Nejkrásnější sbírka (Wičanhpi, Hočhóka)\n\n
PRIORITY:1
CLASS:PUBLIC
X-ALT-DESC;FMTTYPE=text/html:<html><body>Putování VL - Nejkrásnější sbírka (Wičanhpi, Hočhóka)\n\n<hr>Liga lesní moudrosti<br><a href="https://www.woodcraft.cz">www.woodcraft.cz</a></body></html>
BEGIN:VALARM
TRIGGER:-PT10080M
ACTION:DISPLAY
DESCRIPTION:Reminder
END:VALARM
END:VEVENT
END:VCALENDAR
