BEGIN:VCALENDAR
PRODID:-//www.woodcraft.cz
VERSION:2.0
METHOD:PUBLISH
BEGIN:VEVENT
DTEND;VALUE=DATE:20140428
DTSTART;VALUE=DATE:20140425
LOCATION:
TRANSP:OPAQUE
SEQUENCE:0
UID:393@woodcraft.cz
DTSTAMP:20260424T084337Z
SUMMARY:Náčelnické zkoušky - 2. víkend (Vítek)
DESCRIPTION:Náčelnické zkoušky - 2. víkend (Vítek)\n\n
PRIORITY:1
CLASS:PUBLIC
X-ALT-DESC;FMTTYPE=text/html:<html><body>Náčelnické zkoušky - 2. víkend (Vítek)\n\n<hr>Liga lesní moudrosti<br><a href="https://www.woodcraft.cz">www.woodcraft.cz</a></body></html>
BEGIN:VALARM
TRIGGER:-PT10080M
ACTION:DISPLAY
DESCRIPTION:Reminder
END:VALARM
END:VEVENT
END:VCALENDAR
