BEGIN:VCALENDAR
PRODID:-//www.woodcraft.cz
VERSION:2.0
METHOD:PUBLISH
BEGIN:VEVENT
DTEND;VALUE=DATE:20140331
DTSTART;VALUE=DATE:20140328
LOCATION:
TRANSP:OPAQUE
SEQUENCE:0
UID:388@woodcraft.cz
DTSTAMP:20260424T100313Z
SUMMARY:Náčelnické zkoušky - 1. víkend - Bečov
DESCRIPTION:Náčelnické zkoušky - 1. víkend - Bečov (Vítek)\n\n
PRIORITY:1
CLASS:PUBLIC
X-ALT-DESC;FMTTYPE=text/html:<html><body>Náčelnické zkoušky - 1. víkend - Bečov (Vítek)\n\n<hr>Liga lesní moudrosti<br><a href="https://www.woodcraft.cz">www.woodcraft.cz</a></body></html>
BEGIN:VALARM
TRIGGER:-PT10080M
ACTION:DISPLAY
DESCRIPTION:Reminder
END:VALARM
END:VEVENT
END:VCALENDAR
