BEGIN:VCALENDAR
PRODID:-//www.woodcraft.cz
VERSION:2.0
METHOD:PUBLISH
BEGIN:VEVENT
DTEND;VALUE=DATE:20140113
DTSTART;VALUE=DATE:20140110
LOCATION:
TRANSP:OPAQUE
SEQUENCE:0
UID:385@woodcraft.cz
DTSTAMP:20260424T084246Z
SUMMARY:Druhý ze dvou víkendů kurzu ZZA
DESCRIPTION:Druhý ze dvou víkendů kurzu ZZA\n\n
PRIORITY:1
CLASS:PUBLIC
X-ALT-DESC;FMTTYPE=text/html:<html><body>Druhý ze dvou víkendů kurzu ZZA\n\n<hr>Liga lesní moudrosti<br><a href="https://www.woodcraft.cz">www.woodcraft.cz</a></body></html>
BEGIN:VALARM
TRIGGER:-PT10080M
ACTION:DISPLAY
DESCRIPTION:Reminder
END:VALARM
END:VEVENT
END:VCALENDAR
