BEGIN:VCALENDAR
PRODID:-//www.woodcraft.cz
VERSION:2.0
METHOD:PUBLISH
BEGIN:VEVENT
DTEND;VALUE=DATE:20131014
DTSTART;VALUE=DATE:20131011
LOCATION:
TRANSP:OPAQUE
SEQUENCE:0
UID:384@woodcraft.cz
DTSTAMP:20260424T084709Z
SUMMARY:Brigáda na Kosáku a Faře v rámci
DESCRIPTION:Brigáda na Kosáku a Faře v rámci akce 72 hodin\n\n
PRIORITY:1
CLASS:PUBLIC
X-ALT-DESC;FMTTYPE=text/html:<html><body>Brigáda na Kosáku a Faře v rámci akce 72 hodin\n\n<hr>Liga lesní moudrosti<br><a href="https://www.woodcraft.cz">www.woodcraft.cz</a></body></html>
BEGIN:VALARM
TRIGGER:-PT10080M
ACTION:DISPLAY
DESCRIPTION:Reminder
END:VALARM
END:VEVENT
END:VCALENDAR
