BEGIN:VCALENDAR
PRODID:-//www.woodcraft.cz
VERSION:2.0
METHOD:PUBLISH
BEGIN:VEVENT
DTEND;VALUE=DATE:1370556000
DTSTART;VALUE=DATE:20130607
LOCATION:
TRANSP:OPAQUE
SEQUENCE:0
UID:381@woodcraft.cz
DTSTAMP:20260424T084956Z
SUMMARY:100 let táboření týpí v Čechách a
DESCRIPTION:100 let táboření týpí v Čechách a jeden z jeho duchovních otců: Miloš Maixner\n\n
PRIORITY:1
CLASS:PUBLIC
X-ALT-DESC;FMTTYPE=text/html:<html><body>100 let táboření týpí v Čechách a jeden z jeho duchovních otců: Miloš Maixner\n\n<hr>Liga lesní moudrosti<br><a href="https://www.woodcraft.cz">www.woodcraft.cz</a></body></html>
BEGIN:VALARM
TRIGGER:-PT10080M
ACTION:DISPLAY
DESCRIPTION:Reminder
END:VALARM
END:VEVENT
END:VCALENDAR
