BEGIN:VCALENDAR
PRODID:-//www.woodcraft.cz
VERSION:2.0
METHOD:PUBLISH
BEGIN:VEVENT
DTEND;VALUE=DATE:20131021
DTSTART;VALUE=DATE:20131018
LOCATION:
TRANSP:OPAQUE
SEQUENCE:0
UID:376@woodcraft.cz
DTSTAMP:20260424T084751Z
SUMMARY:Ohňová Čotokva - umění rozdělávání ohně
DESCRIPTION:Ohňová Čotokva - umění rozdělávání ohně\n\n
PRIORITY:1
CLASS:PUBLIC
X-ALT-DESC;FMTTYPE=text/html:<html><body>Ohňová Čotokva - umění rozdělávání ohně\n\n<hr>Liga lesní moudrosti<br><a href="https://www.woodcraft.cz">www.woodcraft.cz</a></body></html>
BEGIN:VALARM
TRIGGER:-PT10080M
ACTION:DISPLAY
DESCRIPTION:Reminder
END:VALARM
END:VEVENT
END:VCALENDAR
