BEGIN:VCALENDAR
PRODID:-//www.woodcraft.cz
VERSION:2.0
METHOD:PUBLISH
BEGIN:VEVENT
DTEND;VALUE=DATE:20130325
DTSTART;VALUE=DATE:20130323
LOCATION:
TRANSP:OPAQUE
SEQUENCE:0
UID:344@woodcraft.cz
DTSTAMP:20260424T084750Z
SUMMARY:Pow-wow Kladno (Čanpa)
DESCRIPTION:Pow-wow Kladno (Čanpa)\n\n
PRIORITY:1
CLASS:PUBLIC
X-ALT-DESC;FMTTYPE=text/html:<html><body>Pow-wow Kladno (Čanpa)\n\n<hr>Liga lesní moudrosti<br><a href="https://www.woodcraft.cz">www.woodcraft.cz</a></body></html>
BEGIN:VALARM
TRIGGER:-PT10080M
ACTION:DISPLAY
DESCRIPTION:Reminder
END:VALARM
END:VEVENT
END:VCALENDAR
